BEGIN:VCALENDAR
BEGIN:VEVENT
DTSTART:20190125T193000Z
DTEND:20190125T203000Z
SUMMARY:Biology Seminar Series: Dr. Emily S. Choy
DESCRIPTION:Foraging energetics and physiological strategies of seabirds and Arctic marine predators and the effects of environmental change
LOCATION:4440Q Carleton Technology and Training Centre, Carleton University, 1125 Colonel By Dr, Ottawa, ON K1S 5B6
URL:
END:VEVENT
END:VCALENDAR