BEGIN:VCALENDAR
BEGIN:VEVENT
DTSTART:20190201T193000Z
DTEND:20190201T203000Z
SUMMARY:Biology Seminar Series: Dr. Liz Brauer
DESCRIPTION:Mapping plant immune signaling pathways using a systems biology approach
LOCATION:4440Q Carleton Technology and Training Centre, Carleton University, 1125 Colonel By Dr, Ottawa, ON K1S 5B6
URL:
END:VEVENT
END:VCALENDAR