BEGIN:VCALENDAR
BEGIN:VEVENT
DTSTART:20190208T193000Z
DTEND:20190208T203000Z
SUMMARY:Biology Seminar Series: Dr. Cam Goater
DESCRIPTION:Zombie hosts and their parasite chauffeurs: the ecology and behaviour of Dicrocoelium-infected ants
LOCATION:4440Q Carleton Technology and Training Centre, Carleton University, 1125 Colonel By Dr, Ottawa, ON K1S 5B6
URL:
END:VEVENT
END:VCALENDAR