BEGIN:VCALENDAR
BEGIN:VEVENT
DTSTART:20190215T170000Z
DTEND:20190215T180000Z
SUMMARY:Biology Seminar Series: Dr. Tim Johnston
DESCRIPTION:A cumulative effects risk framework for aquatic invasive species
LOCATION:4440Q Carleton Technology and Training Centre, Carleton University, 1125 Colonel By Dr, Ottawa, ON K1S 5B6
URL:
END:VEVENT
END:VCALENDAR