BEGIN:VCALENDAR
BEGIN:VEVENT
DTSTART:20190405T190000Z
DTEND:20190405T230000Z
SUMMARY:Biology Seminar Series &amp; Reception: Dr. Jean-Guy Godin
DESCRIPTION:The Last Lecture: My path to becoming a university Biology professor, biological discoveries, and lessons learned along the way



*3:00 pm*



Reception to follow. Located in Richcraft Hall Atrium from 4:00-7:00 pm. Appetizers available and a cash bar.
LOCATION:Senate Room, 608 Pigiarvik, Carleton University, 1125 Colonel By Dr, Ottawa, ON K1S 5B6
URL:
END:VEVENT
END:VCALENDAR