BEGIN:VCALENDAR
BEGIN:VEVENT
DTSTART:20190322T183000Z
DTEND:20190322T193000Z
SUMMARY:Biology Seminar Series: Marina Cvetkovska
DESCRIPTION:Keep Cool and Carry On: The Antarctic Green Alga Chlamydomonas sp. UWO241 as an Emerging Model for Photosynthesis in the Cold
LOCATION:4440Q Carleton Technology and Training Centre, Carleton University, 1125 Colonel By Dr, Ottawa, ON K1S 5B6
URL:
END:VEVENT
END:VCALENDAR