BEGIN:VCALENDAR
BEGIN:VEVENT
DTSTART:20190308T193000Z
DTEND:20190308T203000Z
SUMMARY:Biology Seminar Series: Dylan Fraser
DESCRIPTION:Adaptation or extirpation: Will small populations persist in the face of environmental change?
LOCATION:4440Q Carleton Technology and Training Centre, Carleton University, 1125 Colonel By Dr, Ottawa, ON K1S 5B6
URL:
END:VEVENT
END:VCALENDAR