BEGIN:VCALENDAR
BEGIN:VEVENT
DTSTART:20190315T160000Z
DTEND:20190315T170000Z
SUMMARY:Biology Seminar Series: Hemanta Adhikary
DESCRIPTION:Systematic development of novel peptide inhibitors for the use as potential cancer therapeutics



*12:00 pm*
LOCATION:4440Q Carleton Technology and Training Centre, Carleton University, 1125 Colonel By Dr, Ottawa, ON K1S 5B6
URL:
END:VEVENT
END:VCALENDAR