BEGIN:VCALENDAR
BEGIN:VEVENT
DTSTART:20190412T160000Z
DTEND:20190412T170000Z
SUMMARY:Biology Seminar Series: Dr. Sandra Ann Binning
DESCRIPTION:&quot;Parasites and host performance: Incorporating infection into our understanding of animal cognition, movement and behavior&quot;



**12:00 pm**



Host: Wong Lab



Key words:&nbsp;evolution, fitness, locomotion, seasonal migration, morphology, physiology
LOCATION:4440Q Carleton Technology and Training Centre, Carleton University, 1125 Colonel By Dr, Ottawa, ON K1S 5B6
URL:
END:VEVENT
END:VCALENDAR