BEGIN:VCALENDAR
BEGIN:VEVENT
DTSTART:20190501T183000Z
DTEND:20190501T193000Z
SUMMARY:Biology Seminar Series: Dr. Paul Hart
DESCRIPTION:How one thing led to another:&nbsp;social interactions in fish, birds and humans



**Wednesday, May 1, 2019 at 2:30 pm**











Host: Godin Lab
LOCATION:4440Q Carleton Technology and Training Centre, Carleton University, 1125 Colonel By Dr, Ottawa, ON K1S 5B6
URL:
END:VEVENT
END:VCALENDAR