BEGIN:VCALENDAR
BEGIN:VEVENT
DTSTART:20190517T160000Z
DTEND:20190517T170000Z
SUMMARY:Biology Seminar Series: Roger Linington
DESCRIPTION:Exploring the Biological Landscape of Natural Products; Informatic Approaches to Bioactive Compound Discovery











Coffee will be available at 11:30am



&nbsp;
LOCATION:4440Q Carleton Technology and Training Centre, Carleton University, 1125 Colonel By Dr, Ottawa, ON K1S 5B6
URL:
END:VEVENT
END:VCALENDAR