BEGIN:VCALENDAR
BEGIN:VEVENT
DTSTART:20190612T183000Z
DTEND:20190612T193000Z
SUMMARY:Biology Seminar Series: Dr. Kelly Miller
DESCRIPTION:Implementation of Active Learning in Introductory Physics Classes at Harvard; Lessons Learned
LOCATION:4440Q Carleton Technology and Training Centre, Carleton University, 1125 Colonel By Dr, Ottawa, ON K1S 5B6
URL:
END:VEVENT
END:VCALENDAR