BEGIN:VCALENDAR
BEGIN:VEVENT
DTSTART:20260114T140000Z
DTEND:20260114T210000Z
SUMMARY:General Motors of Canada - Booth
DESCRIPTION:Who this is for: Open to all Engineering students interested in learning about opportunities at General Motors of Canada. What you will get out of it: Stop by and visit the GM of Canada booth to learn about GM of Canada career opportunities, and meet the GM representatives. Bring your resume!



General Motors&nbsp;is reinventing itself as a company. We are driving forward, accelerating change, and opening the door to new thinking and advanced technology. Our vision is to design, build, and sell the world&#039;s best vehicles. General Motors of Canada strives for an open, interactive, and dynamic work environment that promotes a rapid exchange of ideas and information. Our employees represent a true cross-section of cultures, demographics, and lifestyles, which help General Motors to succeed worldwide. General Motors of Canada is looking for qualified candidates who have the ideas and ambition to drive GM forward as a faster moving, more agile, highly innovative manufacturer, and marketer of automotive components and vehicles.



Interested in joining a company that is driving the future of the automotive industry? The internship you have been looking for may be waiting for you at General Motors of Canada.



GM of Canada is currently recruiting for the following opportunities, check out their website as well for more opportunities.




2026-2027 16 Month Coop Environmental Engineering, St. Catharines Propulsion Plant, St. Catharines, Ontario | General Motors Careers



2026-2027 Co-Op - Environmental Engineering, Non-Manufacturing, Oshawa, Ontario | General Motors Careers




For full details, visit the&nbsp;mySuccess Co-op and Career Events Calendar.
LOCATION:The Engineering Design Centre - Main Floor Atrium Mackenzie, Carleton University, 1125 Colonel By Dr, Ottawa, ON K1S 5B6
URL:
END:VEVENT
END:VCALENDAR