BEGIN:VCALENDAR
BEGIN:VEVENT
DTSTART:20260331T140000Z
DTEND:20260331T220000Z
SUMMARY:Discover Technata Career Fair
DESCRIPTION:When:&nbsp;Tuesday, March 31, 10am-6pm (Career Fair)Shuttle Bus:&nbsp;10am departure from Carleton, 2pm departure from Brookstreet Hotel to return to Carleton.Who this is for:&nbsp;Open to all students and alumniWhat you will get out of it:&nbsp;Have the opportunity to network and connect directly with some of the biggest companies in the Kanata North tech park, all under one roof.



If you are serious about a successful career in tech, knowing where to start is easy: Kanata North. With the country&#039;s largest density of technology companies ranging from promising startups to leading global giants, it&#039;s a hub for R&amp;D advancement in Canada. Start building your career in Kanata North by attending the in-person&nbsp;Discover Technata Career Fair on March 31!



Benefits for job seekers:




Registration and parking are FREE for attendees



Connect with multiple employers who are actively looking to fill all levels of positions&nbsp;



Build your professional network&nbsp;



Attend workshops



Learn about exciting new opportunities and career paths



Sharpen your communication and interview skills&nbsp;




For full details, including info on the complimentary shuttle and registration, visit the&nbsp;mySuccess Co-op and Career Events Calendar.
LOCATION:Brookstreet Hotel, Legget Drive, Kanata, ON, Canada K2K 3G4
URL:
END:VEVENT
END:VCALENDAR