BEGIN:VCALENDAR
BEGIN:VEVENT
DTSTART:20260618T140000Z
DTEND:20260618T190000Z
SUMMARY:Ottawa Grad Career Fair
DESCRIPTION:Your degree is just the beginning - now it&#039;s time to make connections that will shape your future!&nbsp;



Graduating students and early-career alumni are invited to the Ottawa Grad Career Fair, hosted by Algonquin College, Carleton University, La Cité, and the University of Ottawa.



Why attend?




Explore career paths and connect with employers actively hiring



Gain insights into the latest job trends and opportunities



Build relationships and expand your network




Upper-year students are also invited so they can chat with employers, learn about upcoming opportunities, and strengthen their candidacy for the future.



Employers from a variety of industries will be on site (employer list to come closer to the event). Members of Carleton&#039;s Career Services team will also be on hand to provide guidance and answer questions.



If you have any questions about this event or require accommodations for a disability to attend, please email&nbsp;careerfair@carleton.ca.



For full details and to register, visit the&nbsp;mySuccess Co-op and Career Events Calendar.
LOCATION:Nepean Sportsplex, Woodroffe Avenue, Nepean, ON, Canada K2G 1W2
URL:
END:VEVENT
END:VCALENDAR