BEGIN:VCALENDAR
BEGIN:VEVENT
DTSTART:20260424T140000Z
DTEND:20260424T183000Z
SUMMARY:JLR &amp; Carleton Women Engineering - Office Tour &amp; Presentation
DESCRIPTION:Who this is for: Women in Engineering in all Engineering and Design degree programs.What you will get out of it: Learn about JLR and their various projects, network with JLR staff, and learn about career opportunities for students. Bring your resume!Location: 343 Preston Street, Tower II, Suite 1000. Students will need to find their own transportation to JLR.Dress: Business casual.



JLR&nbsp;provides engineering, architecture, and planning services in the following markets: Alternative Delivery; Buildings; Environmental Infrastructure; Indigenous Relations; Industrial &amp; Manufacturing; Innovative Energy; Mining &amp; Mineral Processing; and Municipal Infrastructure.



JLR prides itself on being one of the pioneering proponents of integrated multidisciplinary design delivery. Since inception, JLR has offered clients access to an unmatched selection of in-house design disciplines. JLR is equipped with extensive teams of civil, electrical, energy systems, environmental, mechanical, and structural engineering staff, who are complemented by the exceptional architecture, planning, and project delivery teams.



The office tour event is a great opportunity for you to learn about JLR and to introduce yourself, network, share your skills and interests, and discuss how your academic experience may align with the work the engineering teams are doing. We hope you can join us for the event and we look forward to meeting you.&nbsp;Bring your resume! Pizza lunch and refreshments will be served.&nbsp;



Agenda:




Introduction to JLR



Speakers from various disciplines to present on projects and the consulting industry



Q&amp;A with JLR staff



Tour of the office




For full details and to register, visit the mySuccess Co-op and Career Events Calendar.
LOCATION:J.L. Richards &amp; Associates Limited (JLR), Tower II, 343 Preston Street, Ottawa, ON, Canada K1S 1N4
URL:
END:VEVENT
END:VCALENDAR