BEGIN:VCALENDAR
BEGIN:VEVENT
DTSTART:20160307T150000Z
DTEND:20160307T160000Z
SUMMARY:OCCI - lecture series
DESCRIPTION:Presenter: Professor Edward Merino, University of Cincinnati
Lecture title: Understanding and targeting of cancer cells’ addiction to reactive oxygen
Read more here.
LOCATION:202 Tory Building, Carleton University, 1125 Colonel By Dr, Ottawa, ON K1S 5B6
URL:
END:VEVENT
END:VCALENDAR