BEGIN:VCALENDAR
BEGIN:VEVENT
DTSTART:20191128T230000Z
DTEND:20191129T020000Z
SUMMARY:What Can You Do with a Master&#039;s Degree in Economics?
DESCRIPTION:Briana Brownell (M.A. Carleton, 2013) – Founder and CEO Pure Strategy Inc.







Scott McNeil (M.A. Carleton, 2017) – Data Scientist, Shopify



Geneviève Vallée (M.A. Carleton, 2017) – Bank of Canada



Three recent Carleton economics graduates will make short presentations on who they are, how they got into the study of economics, how they got their first (and subsequent) jobs, and advice for graduating students, together with a brief discussion of possible future employment opportunities with their current employer and/or more generally.



Pizza and soft-drink reception will be held first, followed by the presentations.



Organized by the Department of Economics, Carleton Undergraduate Economics Society (CUES), and Carleton Graduate Economics Society (CGES) with financial support from FPA and Economics.



Registration for this event has now closed.
LOCATION:1200 Richcraft Hall, Carleton University, 1125 Colonel By Dr, Ottawa, ON K1S 5B6
URL:
END:VEVENT
END:VCALENDAR