BEGIN:VCALENDAR
BEGIN:VEVENT
DTSTART:20260427T210000Z
DTEND:20260427T223000Z
SUMMARY:The Baltic Sea Security Landscape and Canada’s Role
DESCRIPTION:Please join us for a roundtable discussion organized by the Eastern Europe and Transatlantic Network, Carleton University and Macdonald-Laurier Institute with 



Dr. Paweł Markiewicz, Executive Director of the PISM Washington, D.C. Office, and Elizabeth Anderson, Fellow, Montreal Institute for Global Security. 



The discussion will be based on PISM’s latest report, Unsafe Waters: The Baltic Sea Region and the Redefinition of Security in Europe.



Registration
LOCATION:3040 Nicol, Carleton University, 1125 Colonel By Dr, Ottawa, ON K1S 5B6
URL:
END:VEVENT
END:VCALENDAR