BEGIN:VCALENDAR
BEGIN:VEVENT
DTSTART:20260504T160000Z
DTEND:20260504T173000Z
SUMMARY:Steps for Safety
DESCRIPTION:Lace up your shoes and join us on an important Safety Walk! &nbsp;The Joint Health and Safety Committee and the Environmental Health and Safety Team are hosting a group walk around our beautiful campus to enjoy the fresh air, get some steps in, and encourage awareness of hazards in our environment.



This guided walk will teach you the very first step in workplace health and safety: PREVENTION! By looking for hazards, you are helping everyone stay safe.



Please register below.
LOCATION:Alumni Park behind Pigiarvik Building Pigiarvik, Carleton University, 1125 Colonel By Dr, Ottawa, ON K1S 5B6
URL:
END:VEVENT
END:VCALENDAR