BEGIN:VCALENDAR
BEGIN:VEVENT
DTSTART:20260601T200000Z
DTEND:20260601T213000Z
SUMMARY:#Techno: The Ecstasies and Exploits of Technoculture
DESCRIPTION:
LOCATION:1811 Dunton Tower, Carleton University, 1125 Colonel By Dr, Ottawa, ON K1S 5B6
URL:
END:VEVENT
END:VCALENDAR