BEGIN:VCALENDAR
BEGIN:VEVENT
DTSTART:20220302T160000Z
DTEND:20220302T173000Z
SUMMARY:Russia&#039;s War on Ukraine
DESCRIPTION:Please note that the event time has been moved: the roundtable will now take place at 11 am.



On Wednesday March 2 at 11 am (EST), EURUS will host &quot;Russia&#039;s War on Ukraine&quot;, a roundtable discussion. After months of military and rhetorical escalation between Ukraine, Russia, and the West, Russian President Vladimir Putin launched an invasion of Ukraine early on February 24. While the outcome remains unclear, it is certain that relations between all parties are likely to be irretrievably changed for the long term. This roundtable will assess the implications of Russia’s war from a variety of perspectives including the response of Ukraine and Ukrainians, Russian domestic politics, Europe’s role and response, and the lessons learned from the 2008 Russian-Georgian war.



The roundtable will feature Joan DeBardeleben, Paul Goode, Milana Nikolko, and David Sichinava — with Crina Viju-Miljusevic as moderator.



Registration is required: please register below to receive the Zoom link before the event (registration will close at 11:15 am).



If you missed the roundtable, you can watch the video here.
LOCATION:Carleton University, 1125 Colonel By Dr, Ottawa, ON K1S 5B6
URL:
END:VEVENT
END:VCALENDAR