BEGIN:VCALENDAR
BEGIN:VEVENT
DTSTART:20241030T140000Z
DTEND:20241030T153000Z
SUMMARY:EVENT: Elections in Georgia: Between Europe and Russia
DESCRIPTION:DATE: October 30th, 2024




TIME: 10:00-11:30am




LOCATION: 4050 Nicol Building



Registration is required. Please register using the form below. This is a hybrid event. Online attendees will receive the event&#039;s zoom link one day before.



Event Description:&nbsp;Elections in Georgia on October 26 will determine its path: a pro-European orientation or one linked to Vladimir Putin’s Russia.&nbsp; Georgian Dream, the ruling party, has taken steps to stifle civil society and turn Georgia into an illiberal democracy along the lines of Victor Orban’s Hungary.&nbsp; A divided but strong opposition seeks to continue to the path of European Union integration.&nbsp; The War in Ukraine casts a long shadow as do pocketbook issues.&nbsp; The outcome is impossible to predict, as is how various parties will react especially given the possibility of election manipulation.&nbsp; A roundtable of speakers that include Carleton experts&nbsp;and those on the ground in Georgia will discuss the election results and post-election fallout.



Speakers:



Nino Antadze, Associate Professor, Environmental Studies, University of Prince Edward Island



Kornely Kakachia, Director, Georgian Institute of Politics, Tbilisi



Anna&nbsp;Rekhviashvili, PhD in Gender Feminist and Women’s Studies, York University



Jeff Sahadeo, Professor, Institute of European, Russian and Eurasian Studies and Political Science, Carleton University



David Sichinava, Adjunct Research Professor, Institute of European, Russian and Eurasian Studies, Carleton University
LOCATION:4050 Nicol, Carleton University, 1125 Colonel By Dr, Ottawa, ON K1S 5B6
URL:
END:VEVENT
END:VCALENDAR