BEGIN:VCALENDAR
BEGIN:VEVENT
DTSTART:20241121T230000Z
DTEND:20241122T000000Z
SUMMARY:EURUS MA Information Session
DESCRIPTION:DATE: November 21st, 2024




TIME: 6:00-7:00pm (ET)




&nbsp;



Are you interested in our MA program? Are you curious about courses, research, language learning opportunities, career development opportunities, grad student funding, and other topics? Join us for a EURUS MA information session on November 21st at 6-7PM (ET), which will include a presentation on the program and opportunities, as well as a Q&amp;A period!



Please join the session here: https://carleton-ca.zoom.us/j/98609662405



&nbsp;



&nbsp;



&nbsp;



&nbsp;
LOCATION:Carleton University, 1125 Colonel By Dr, Ottawa, ON K1S 5B6
URL:
END:VEVENT
END:VCALENDAR