BEGIN:VCALENDAR
BEGIN:VEVENT
DTSTART:20251010T130000Z
DTEND:20251010T200000Z
SUMMARY:Disinformation, Propaganda, and Russia&#039;s War on Ukraine
DESCRIPTION:Date: October 10th, 2025



Time: 9:00am to 4:00pm



Location: Nicol 3040



Event Description:



Russia’s disinformation concerning its war in Ukraine remains a significant challenge for Canada and for the international community. This workshop brings together academic and policy perspectives from Canada, the United States, and Europe, in understanding the reach and effectiveness of Russian disinformation and propaganda. The sessions will consist of three panels devoted to emerging research on disinformation, policy and practitioner perspectives, and countering disinformation.



This event is sponsored by SSHRC and the McMillan Chair in Russian Studies. For more information or queries, please contact Prof. Paul Goode (paul.goode@carleton.ca).



&nbsp;



Event Schedule&nbsp;



9:30-10:00 amWorkshop opening10:00-11:30 amPanel 1: Emerging research
Presenters:
Aaron Erlich, McGill University
Juris Pupcenoks, Marist University
Margarita Zavadskaya, FIIA/Helsinki University11:30-11:45 amBreak11:45 am-1:15 pmPanel 2: Policy and Practitioner Perspectives
Presenters:
Colin Francis Townson, Global Affairs Canada
Albina Holokhvastova, Carleton Ukrainians
Yuriy Novodvorskiy, Russian Canadian Democratic Alliance1:15-2:15 pmLunch2:30-4:00 pmPanel 3: Countering Disinformation
Presenters:
Kenzie Burchell, University of Toronto
Sarah Oates, University of Maryland
Oleksandr Pankieiev, University of Alberta4:00-4:15 pm Closing remarks



&nbsp;
LOCATION:3040 Nicol, Carleton University, 1125 Colonel By Dr, Ottawa, ON K1S 5B6
URL:
END:VEVENT
END:VCALENDAR