BEGIN:VCALENDAR
BEGIN:VEVENT
DTSTART:20151111T193000Z
DTEND:20151111T210000Z
SUMMARY:Modern Russian Conservatism and its Intellectual Origins
DESCRIPTION:Please join us Wednesday November 11, 2015, &nbsp;for an upcoming seminar with Dr. Paul Robinson &quot;Modern Russian Conservatism and its Intellectual Origins&quot;. This event will take place from 2:30-4:00pm in the MacOdrum Library (Room 482). This room is located&nbsp;on the 4th floor&nbsp;in&nbsp;Discovery Centre.



This lecture is co-sponsored by the Institute of European, Russian and Eurasian studies (EURUS) and the Centre for Governance and Public Management (CGPM).&nbsp;







For more information please see below and/or click on the event poster.



&nbsp;



&nbsp;
LOCATION:482 MacOdrum Library, Carleton University, 1125 Colonel By Dr, Ottawa, ON K1S 5B6
URL:
END:VEVENT
END:VCALENDAR