BEGIN:VCALENDAR
BEGIN:VEVENT
DTSTART:20160128T163000Z
DTEND:20160128T180000Z
SUMMARY:Jean Monnet Chair Democracy Launch Event with Professor Vivien Schmidt
DESCRIPTION:Please join us for the &nbsp;official launch event&nbsp;for the&nbsp;Jean Monnet Chair “Democracy in the European Union”.



Event Program:











Marie-Anne Coninsx, Ambassador of the European Union to Canada: Opening remarks



Achim Hurrelmann, Jean Monnet Chair: The Research and Teaching Program of the Jean Monnet Chair “Democracy in the European Union”



Vivien Schmidt, Boston University: Keynote Lecture – Democracy in Europe: At Risk in the Euro Crisis?



The event will take place on&nbsp;January 28, 2016&nbsp;from&nbsp;11:30am-1:00pm&nbsp;in&nbsp;Dunton Tower, Room 2017, Carleton campus.&nbsp;Lunch will be served. For registration, please visit the Jean Monnet Chair web&nbsp;page.



Speakers:



Vivien Schmidt,&nbsp;is Jean Monnet Professor of European Integration, Professor of International Relations and Political Science at Boston University, and Founding Director of BU’s Center for the Study of Europe.&nbsp; Her research focuses on European political economy, institutions, democracy, and political theory.&nbsp; Her book Democracy in Europe (2006) was named in 2015 by the European Parliament as one of the “100 Books on Europe to Remember”.



Achim Hurrelmann, is Associate Professor of Political Science and Director of the Institute of European, Russian and Eurasian Studies (EURUS) at Carleton University, Ottawa, Canada. His research focuses on the politicization and legitimation of regional and global governance, especially in the European Union.



&nbsp;
LOCATION:2017 Dunton Tower, Carleton University, 1125 Colonel By Dr, Ottawa, ON K1S 5B6
URL:
END:VEVENT
END:VCALENDAR