BEGIN:VCALENDAR
BEGIN:VEVENT
DTSTART:20160229T163000Z
DTEND:20160229T180000Z
SUMMARY:undefined
DESCRIPTION:Please join us&nbsp;February 29, 2016&nbsp;, for a guest lecture by&nbsp;Dr. Milana Nikolko, &quot;Political Trauma: Ukrainian Society and Perspectives of National Reconciliation&quot;.









Now involved in a dramatic conflict and afflicted by various kinds of social, political, and physical trauma, Ukraine is searching for a new national idea. This presentation considers how Ukraine&#039;s national idea is evolving and how talk of ‘the Other’, has resulted in an extraordinary mix of national, Soviet, and global narratives in Ukraine that are in conflict with one another.&nbsp;



Dr. Milana Nikolko is an adjunct research professor at the Institute of European, Russian and Eurasian Studies (EURUS). Her research interests include political legitimacy in post-Soviet space, social capital formation and conflict in multi-ethnic societies, as well as diaspora and horizontal legitimacy in the global epoch. This presentation will be based on Dr. Nikolkos&#039; most recent publication, where she was acting as author and co-editor of the volume, available here.&nbsp;Engaging Crimea and Beyond: Perspectives on Conflict, Cooperation and Civil Society Development.&nbsp; Edited by&nbsp;David Carment and&nbsp;Milana Nikolko,43-46.&nbsp;Global Dialogues 11, Duisburg 2016.
LOCATION:2017 Dunton Tower, Carleton University, 1125 Colonel By Dr, Ottawa, ON K1S 5B6
URL:
END:VEVENT
END:VCALENDAR