BEGIN:VCALENDAR
BEGIN:VEVENT
DTSTART:20250903T223000Z
DTEND:20250904T013000Z
SUMMARY:Athletics Night
DESCRIPTION:Check out our sports facilities and play few games while you&#039;re at it! We will have an assortment of options taking place throughout the night across our Athletic buildings and spaces.



EventLocationTimeQuadball(with Carleton Quadball Club)Ravens Fieldhouse6:30 p.m. - 9:30 p.m.Ultimate FrisbeeRavens Fieldhouse6:30 p.m. - 9:30 p.m.SoccerRavens Fieldhouse6:30 p.m. - 9:30 p.m.Archery (with Carleton Archery Club)Activity Room 2404(2nd floor of Ice House)6:30 p.m. - 9:30 p.m.YogaCombatives Room 2406(2nd floor of Ice House)6:30 p.m. - 8:00 p.m.Free Gym Drop-InNorm Fenn Gym6:30 p.m. - 8:00 p.m.Volleyball (with Carleton Women&#039;s Volleyball ClubNorm Fenn Gym7:00 p.m. - 9:30 p.m.Wheelchair BasketballNorm Fenn Gym8:00 p.m. - 9:30 p.m.Free SwimCarleton Swimming Pool8:45 p.m. - 9:30 p.m.











Photos and Videos



Please note, photos and videos may be captured of this event.&nbsp;By attending the event, you consent to photography, audio recording, and video recording to be used for news, promotional purposes, advertising, inclusion on websites, social media, or any other purpose by Carleton University. Please contact fallorientation@carleton.ca&nbsp;if you have any questions.



Accessibility



All Fall Orientation Events are hosted in with accessibility in mind, if you need any accommodations to participate, please contact fallorientation@carleton.ca.
LOCATION:Ravens Nest, Fieldhouse, and Norm Fenn Gym Athletics Centre, Carleton University, 1125 Colonel By Dr, Ottawa, ON K1S 5B6
URL:
END:VEVENT
END:VCALENDAR