BEGIN:VCALENDAR
BEGIN:VEVENT
DTSTART:20250903T220000Z
DTEND:20250903T233000Z
SUMMARY:GeoGuesser
DESCRIPTION:Take a virtual tour and learn all about Ottawa’s hot spots. Participants will &quot;hit the road&quot; and compete in teams to identify landmarks and see what the city of Ottawa has to offer. We are meeting at Mackenzie Quad and then moving to the broadcasting room as a group. 



Photos and Videos



Please note, photos and videos may be captured of this event.&nbsp;By attending the event, you consent to photography, audio recording, and video recording to be used for news, promotional purposes, advertising, inclusion on websites, social media, or any other purpose by Carleton University. Please contact&nbsp;fallorientation@carleton.ca&nbsp;if you have any questions.



Accessibility



All Fall Orientation Events are hosted in with accessibility in mind, if you need any accommodations to participate, please contact&nbsp;fallorientation@carleton.ca.
LOCATION:Mackenzie, Carleton University, 1125 Colonel By Dr, Ottawa, ON K1S 5B6
URL:
END:VEVENT
END:VCALENDAR