BEGIN:VCALENDAR
BEGIN:VEVENT
DTSTART:20250904T233000Z
DTEND:20250905T003000Z
SUMMARY:Carleton Improv: New Beginnings
DESCRIPTION:Join the Carleton Improv Association to watch their ‘New Beginnings’ show! Expect an evening full of laughs, bits, and even a chance to steer the scenes in the direction YOU want to take.







Photos and Videos



Please note, photos and videos may be captured of this event.&nbsp;By attending the event, you consent to photography, audio recording, and video recording to be used for news, promotional purposes, advertising, inclusion on websites, social media, or any other purpose by Carleton University. Please contact fallorientation@carleton.ca&nbsp;if you have any questions.



Accessibility



All Fall Orientation Events are hosted in with accessibility in mind, if you need any accommodations to participate, please contact fallorientation@carleton.ca.
LOCATION:2000 Minto Centre for Advanced Studies in Engineering, Carleton University, 1125 Colonel By Dr, Ottawa, ON K1S 5B6
URL:
END:VEVENT
END:VCALENDAR