BEGIN:VCALENDAR
BEGIN:VEVENT
DTSTART:20260331T230000Z
DTEND:20260401T003000Z
SUMMARY:Singing Contest for Language Learners
DESCRIPTION:Linguavision is a singing competition for Carleton language learners. Contestants (individuals and groups) sing songs in the language they’re learning in front of a live audience.&nbsp;A panel of judges (and the audience) then scores performances&nbsp;on both language and singing criteria.



For more information: Singing Contest for Language Learners - Faculty of Arts &amp; Social Sciences
LOCATION:Kailash Mital Theatre  Southam Hall (Kailash Mital Theatre), Carleton University, 1125 Colonel By Dr, Ottawa, ON K1S 5B6
URL:
END:VEVENT
END:VCALENDAR