BEGIN:VCALENDAR
BEGIN:VEVENT
DTSTART:20190601T123000Z
DTEND:20190601T210000Z
SUMMARY:CAEFS Conference -No Woman Left Behind 2019
DESCRIPTION:The Canadian Association of Elizabeth Fry Societies will be hosting its annual conference on the theme of &#039;No Woman Left Behind&#039;. This years&#039; conference will examine the totality of the victimization and criminalization cycle for women in Canada including prevention of criminalization, the conditions of prisons, and the required supports for re-entry post-incarceration. The objective is to actively engage in practical conversations that contribute to CAEFS mandate to abolish prisons in Canada.
LOCATION:Richcraft Hall, Carleton University, 1125 Colonel By Dr, Ottawa, ON K1S 5B6
URL:
END:VEVENT
END:VCALENDAR