BEGIN:VCALENDAR
BEGIN:VEVENT
DTSTART:20260514T180000Z
DTEND:20260514T200000Z
SUMMARY:2026 FPGA Excellence Celebration
DESCRIPTION:Let&#039;s celebrate the end of term with FPGA faculty, contract instructors, and staff!



Come and connect with friends and colleagues, enjoy some refreshments, and recognize the incredible work happening across the Faculty of Public and Global Affairs.



We&#039;ll also take a moment for Interim Dean Mary Francoli to present this year&#039;s FPGA Excellence Awards recipients with their certificates.



Let us know if you&#039;ll attend by confirming below.



We hope you&#039;ll join us!



RSVP
LOCATION:Loeb Lounge Loeb Building, Carleton University, 1125 Colonel By Dr, Ottawa, ON K1S 5B6
URL:
END:VEVENT
END:VCALENDAR