BEGIN:VCALENDAR
BEGIN:VEVENT
DTSTART:20260114T180000Z
DTEND:20260114T200000Z
SUMMARY:International Student Social &amp; Resource Panel
DESCRIPTION:Join us for an inspiring and informative event designed to support and empower international students at Carleton University. This panel offers a unique opportunity to hear directly from students, alumni, and professionals who have navigated the international student journey both at Carleton and beyond. Whether you&#039;re seeking guidance on academics, career development, or adjusting to life in Canada, our panelists are ready to share their experiences, insights, and practical advice.



Meet the Panelists




Sara Abbas – International Admissions, Carleton Alumni



Thaddeus Obabori – 4th Year Computer Science Undergraduate



Olha Rudenko – CCI Ottawa, International Student Project



Shaye Belanger – International Student Advisor &amp; Office Administrator, Global Opportunities &amp; International Student Services Office




What You’ll Gain




Personal stories from former international students who have successfully built their academic and professional paths.



Insight into the realities of studying, working, and living in Canada.



Strategies for overcoming challenges and achieving your goals.



Practical tips for adjusting to university life and planning your career.



Information about GO-ISSO services, including career and immigration advising supports.



A chance to ask questions and engage in meaningful conversations with panelists.



Opportunities to connect and network with fellow students and alumni.




Why You Should Attend



This event is a great way to feel inspired, supported, and better prepared for your own academic, personal, and professional journey. Bring your friends everyone is welcome! Light refreshments will be provided.



If you’d like to receive a reminder email, please register in advance.







This event is in partnership with the Carleton University Student Union - Racialized &amp; International Student Experience (RISE) service centre.
LOCATION:4th Floor Room 402 (GO-ISSO) MacOdrum Library, Carleton University, 1125 Colonel By Dr, Ottawa, ON K1S 5B6
URL:
END:VEVENT
END:VCALENDAR