BEGIN:VCALENDAR
BEGIN:VEVENT
DTSTART:20260210T150000Z
DTEND:20260210T170000Z
SUMMARY:Introduction to ArcGIS StoryMaps
DESCRIPTION:Create a professional-looking website with (or without!) an online map using ArcGIS StoryMaps. This hands-on workshop will include tips for creating a story map, copyright considerations, pros and cons of Express Maps, possibilities with StoryMap Collections, and more.



Register on the Library website: GIS Workshops | MacOdrum Library



All graduate students and postdocs are welcome. If you are a TA, this session counts toward voluntary paid training hours, provided that you are working as a TA in the term when the training takes place.



For those registered in the Trajectories program, attendance at this workshop counts toward one of the required workshops for the Research Management non-credit Trajectories certificate.
LOCATION:Computer Lab 103 MacOdrum Library, Carleton University, 1125 Colonel By Dr, Ottawa, ON K1S 5B6
URL:
END:VEVENT
END:VCALENDAR