BEGIN:VCALENDAR
BEGIN:VEVENT
DTSTART:20260604T170000Z
DTEND:20260604T190000Z
SUMMARY:Engaging Audiences through Storytelling
DESCRIPTION:Description:



Storytelling is one of our primary forms of communication, and our culture—from movies and advertising to our daily newsfeeds—is permeated with stories of all kinds. To connect with people as an academic, you need to tell stories with your research, and the storytelling skills you develop can benefit you in fields beyond academia as well.



Learning outcomes:



(1) Understand how stories function as a primary form of communication in human culture



(2) Learn about the elements of stories, and different types of stories



(3) Acquire insight into how storytelling can inform how you communicate your research



(4) Gain an overview of how storytelling can function in non-academic professional contexts like copywriting and content marketing



Workshop leader(s):



David Lafferty



Please note: because this session is not taking place during the Fall or Winter terms, it cannot count toward paid pedagogical training hours for those working as TAs.



For those registered in the Trajectories program, attendance at this workshop may count toward&nbsp;one&nbsp;of the required workshops for the&nbsp;Communications and Engagement&nbsp;non-credit certificate.



REGISTRATION COMING SOON
LOCATION:
URL:
END:VEVENT
END:VCALENDAR