BEGIN:VCALENDAR
BEGIN:VEVENT
DTSTART:20260616T140000Z
DTEND:20260616T160000Z
SUMMARY:Using Social Media as an Academic
DESCRIPTION:Description:



Social media is playing an increasingly important role in our culture and our professional lives, whether we like it or not. While it has its potential pitfalls, social media also provides space for the formation of academic and professional communities that can provide you with opportunities to share your research, sharpen your writing skills, network, and job hunt. In this workshop we will look at some basic principles you can follow in order to engage a wide audience and learn from others through the use of social media.



Learning outcomes:



(1) Consider the diversity of ways we can communicate through social media



(2) Learn different approaches for disseminating information on social media



(3) Understand niche media ecosystems and the importance of “news pegs&quot; and the news cycle



(4) Learn how to engage in risk management when it comes to public engagement



Workshop leader(s):



David Lafferty



All graduate students and postdocs are welcome. If you are a TA, this session counts toward voluntary paid training hours, provided that you are working as a TA in the term when the training takes place.



For those registered in the Trajectories program, attendance at this workshop may count toward&nbsp;one&nbsp;of the required workshops for the&nbsp;Communications and Engagement&nbsp;non-credit certificate.



REGISTRATION COMING SOON
LOCATION:
URL:
END:VEVENT
END:VCALENDAR