BEGIN:VCALENDAR
BEGIN:VEVENT
DTSTART:20260428T160000Z
DTEND:20260428T170000Z
SUMMARY:Clean Up The Campus
DESCRIPTION:Help clean up Carleton’s beautiful campus!



Healthy Workplace and Sustainability Carleton invite all faculty, staff, and members of the Carleton community to join us on Tuesday, April 28, 2026 to help clean up Carleton’s beautiful campus. 



Please visit the link above to register!
LOCATION:Quad Entrance Tory Building, Carleton University, 1125 Colonel By Dr, Ottawa, ON K1S 5B6
URL:
END:VEVENT
END:VCALENDAR