BEGIN:VCALENDAR
BEGIN:VEVENT
DTSTART:20230307T230000Z
DTEND:20230308T010000Z
SUMMARY:FoundHer Part 2: Women&#039;s role in Innovation and Science - Tuesday, March 7th
DESCRIPTION:For day two of our FoundHer week, we have another fantastic event with some unique women from the wide world of science.



First off, we’ll be joined by Suzanne Grant, who works with Capital Angels to help nurture Canada’s startup ecosystem by connecting entrepreneurs with opportunities and capital. Having plenty of entrepreneurship experience and a passion for taking the path less followed, Suzanne has lots of valuable experience and wisdom to share with us.



Next, we have Dr. Sangeeta Murugkar, a professor at Carleton in Medical Physics. With a background in light-matter interactions, photonics, and more, we have much to look forward to. We’ll see you at Innovation Hub on Tuesday, March 7th from 6:00 PM to hear more about the importance of women in innovation and science!











&nbsp;
LOCATION:Innovation Hub - 2020 Nicol, Carleton University, 1125 Colonel By Dr, Ottawa, ON K1S 5B6
URL:
END:VEVENT
END:VCALENDAR