BEGIN:VCALENDAR
BEGIN:VEVENT
DTSTART:20180106T213000Z
DTEND:20180106T050000Z
SUMMARY:Sangamam
DESCRIPTION:
LOCATION:Southam Hall (Kailash Mital Theatre), Carleton University, 1125 Colonel By Dr, Ottawa, ON K1S 5B6
URL:
END:VEVENT
END:VCALENDAR