BEGIN:VCALENDAR
BEGIN:VEVENT
DTSTART:20230929T170000Z
DTEND:20230929T183000Z
SUMMARY:A Conversation on Calls to Action on Justice for National Day of Truth and Reconciliation
DESCRIPTION:Please join us on Friday, September 29th for a conversation on the Calls to Action related to Justice for National Truth and Reconciliation Day. Willie Littlechild, former TRC Commissioner will be our guest speaker.



This event will be held in person, as well as live streamed.
LOCATION:Loeb Building, Carleton University, 1125 Colonel By Dr, Ottawa, ON K1S 5B6
URL:
END:VEVENT
END:VCALENDAR