BEGIN:VCALENDAR
BEGIN:VEVENT
DTSTART:20241111T230000Z
DTEND:20241112T010000Z
SUMMARY:International Wrongful Convictions Day Event
DESCRIPTION:Please join us for a panel discussion in celebration of International Wrongful Convictions Day!



The panelists will include:




Jamie Nelson, Canadian exoneree



Pam Glatt, Director of Education at Innocence Canada



Kelly Lauzon, PhD Candidate and Contract Instructor, Carleton University




This is a hybrid event held in the Senate Room (608 Pigiarvik) and Zoom (link to be sent to attendees upon registration).



Registration is required.



&nbsp;
LOCATION:608 (Senate Room) Pigiarvik, Carleton University, 1125 Colonel By Dr, Ottawa, ON K1S 5B6
URL:
END:VEVENT
END:VCALENDAR