BEGIN:VCALENDAR
BEGIN:VEVENT
DTSTART:20241106T230000Z
DTEND:20241107T010000Z
SUMMARY:What you can do with your BA in Law
DESCRIPTION:Are you curious as to what kind of careers you can pursue after graduation? The Department of Law and Legal Studies is pleased to present



“What you can do with your BA in Law”



This is a panel discussion event featuring several Carleton alumni who are working in the field of Law and Legal Studies. Come hear about the many career paths in the field!



The panelists include




Alexandra Callinan: Associate Lawyer, Kingwell Immigration Law



Josh Hruschka: Senior Labour Relations Office, Carleton University



Georgette Morris: Specialist, Inclusion Diversity Equity Accessibility, Government of Canada



Carmen Barcena: Head of Ceremonial and Protocol Services, Department of Public Works




RSVP is required. Refreshments will be provided.
LOCATION:2nd floor Conference Rooms Richcraft Hall, Carleton University, 1125 Colonel By Dr, Ottawa, ON K1S 5B6
URL:
END:VEVENT
END:VCALENDAR