BEGIN:VCALENDAR
BEGIN:VEVENT
DTSTART:20241107T223000Z
DTEND:20241108T000000Z
SUMMARY:Film Screening and Discussion: The Cost of Vale
DESCRIPTION:Please register to attend. A Zoom link will be sent to online participants upon registration.
LOCATION:Loeb Building, Carleton University, 1125 Colonel By Dr, Ottawa, ON K1S 5B6
URL:
END:VEVENT
END:VCALENDAR