BEGIN:VCALENDAR
BEGIN:VEVENT
DTSTART:20231130T193000Z
DTEND:20231130T213000Z
SUMMARY:Carleton Leader 10th Year Anniversary Celebration
DESCRIPTION:We invite you to join us on Thursday, November 30 from 2:30-4:30pm in Dunton 2017 to celebrate ten years of Carleton Leader! We’ll share an overview and highlights from the last ten years and have a chance to reminisce with members of the first cohorts. &nbsp;



The formal agenda will take place from 2:30-3:30pm followed by a reception from 3:30-4:30pm.
LOCATION:2017 Dunton Tower, Carleton University, 1125 Colonel By Dr, Ottawa, ON K1S 5B6
URL:
END:VEVENT
END:VCALENDAR