BEGIN:VCALENDAR
BEGIN:VEVENT
DTSTART:20160419T133000Z
DTEND:20160419T153000Z
SUMMARY:Carleton Leader Community - Leadership Coaching Café Pilot
DESCRIPTION:Please join us for our first Leadership Coaching Café here at Carleton!



We will be conducting a pilot session with Carleton Leaders to bring CoachingOurselves to the Carleton community.



CoachingOurselves is a program for leaders to learn from, and coach each other, with the long term goal of building capacity for the organization to develop itself. The building block of CoachingOurselves is a 90 minute peer-coaching session self-run by a small group of 4-6 people.



To learn more please visit:&nbsp;http://www.coachingourselves.com/



As leaders, we value your opinion, and would like to continue to provide you with the opportunity to reflect, develop and grow.&nbsp;We have set aside some extra time in order to hear your feedback and understand how you think this tool could be practiced across campus!



PLEASE REGISTER: 
LOCATION:Teraanga Commons, Carleton University, 1125 Colonel By Dr, Ottawa, ON K1S 5B6
URL:
END:VEVENT
END:VCALENDAR