BEGIN:VCALENDAR
BEGIN:VEVENT
DTSTART:20251106T230000Z
DTEND:20251107T010000Z
SUMMARY:Il Ritorno di Casanova
DESCRIPTION:(In Italian with English subtitles)



The celebration of the 2025 Week of the Italian Language in the World continues!



For this year’s theme,&nbsp;Italophony: Language Beyond Borders,&nbsp;the Italian Embassy, together with the School of Linguistics and Language Studies (SLALS) at Carleton University, is pleased to invite you to a special Italian film screening of Il Ritorno di Casanova, a 2022 film from director Gabriele Salvatores 



Admission is free and open to all. Seating is limited, so registration is encouraged (Register now).



We look forward to welcoming students, faculty, and members of the wider community to this cinematic celebration of Italian language and culture.




View Trailer
LOCATION:100 St. Patrick&#039;s Building, Carleton University, 1125 Colonel By Dr, Ottawa, ON K1S 5B6
URL:
END:VEVENT
END:VCALENDAR