BEGIN:VCALENDAR
BEGIN:VEVENT
DTSTART:20260113T173000Z
DTEND:20260113T180000Z
SUMMARY:Linguavision Info Session
DESCRIPTION:Want to perform?  Want to volunteer?  Or just want to know more about the upcoming Linguavision 2026 event planned for 31 March, 2026?  Join us for one of the upcoming info sessions in SP 337:




Friday, 9 January (12:30-1:00)



Tuesday, 13 January (12:30-1:00)
LOCATION:337 St. Patrick&#039;s Building, Carleton University, 1125 Colonel By Dr, Ottawa, ON K1S 5B6
URL:
END:VEVENT
END:VCALENDAR