BEGIN:VCALENDAR
BEGIN:VEVENT
DTSTART:20260213T213000Z
DTEND:20260213T170000Z
SUMMARY:Women Shaping Germany
DESCRIPTION:Join us for a celebration of &quot;Women Shaping Germany&quot; featuring &quot;Women in Divided Germany&quot;, an exhibit by media and cultural scientist, Clara Marz, presented courtesy of the Embassy of Germany in Ottawa.  The event will also feature portraits of women from German-speaking countries curated by students in Carleton German classes
LOCATION:337 St. Patrick&#039;s Building, Carleton University, 1125 Colonel By Dr, Ottawa, ON K1S 5B6
URL:
END:VEVENT
END:VCALENDAR